BEGIN:VCALENDAR
VERSION:2.0
PRODID:-//ChamberMaster//Event Calendar 2.0//EN
METHOD:PUBLISH
X-PUBLISHED-TTL:P1H
REFRESH-INTERVAL:P1H
CALSCALE:GREGORIAN
BEGIN:VTIMEZONE
TZID:America/Chicago
BEGIN:DAYLIGHT
RRULE:FREQ=YEARLY;BYMONTH=3;BYDAY=2SU
DTSTART:20070101T000000
TZOFFSETFROM:-0600
TZOFFSETTO:-0500
TZNAME:Central Daylight Time
END:DAYLIGHT
BEGIN:STANDARD
RRULE:FREQ=YEARLY;BYMONTH=11;BYDAY=1SU
DTSTART:20070101T000000
TZOFFSETFROM:-0500
TZOFFSETTO:-0600
TZNAME:Central Standard Time
END:STANDARD
END:VTIMEZONE
BEGIN:VEVENT
DTSTART;TZID=America/Chicago:20260730T103000
DTEND;TZID=America/Chicago:20260730T113000
X-MICROSOFT-CDO-ALLDAYEVENT:FALSE
SUMMARY:Growth Roundtable Summer Series
DESCRIPTION:Relationships\, Value\, and Influence Growth doesn't come from pushing harder. It comes from creating real value\, building the right relationships\, and understanding how influence actually works. This discussion explores The Go-Giver and what it teaches business leaders about trust\, service\, connection\, and the kind of value that drives lasting success.Reading the book is not necessary however ... https://www.amazon.com/Go-Giver-Expanded-Little-Powerful-Business/dp/1591848288
X-ALT-DESC;FMTTYPE=text/html:<!DOCTYPE html><html><head><title></title></head><body aria-disabled="false"><p><strong fr-original-style="" style="font-weight: 700\;">Relationships\, Value\, and Influence </strong></p><p>Growth doesn&rsquo\;t come from pushing harder. It comes from creating real value\, building the right relationships\, and understanding how influence actually works. This discussion explores The Go-Giver and what it teaches business leaders about trust\, service\, connection\, and the kind of value that drives lasting success.</p><p>Reading the book is not necessary however ... <a fr-original-style="" href="https://www.amazon.com/Go-Giver-Expanded-Little-Powerful-Business/dp/1591848288" style="user-select: auto\;">https://www.amazon.com/Go-Giver-Expanded-Little-Powerful-Business/dp/1591848288</a></p></body></html>
LOCATION:114 N Main St Mansfield TX 76063
UID:e.1786.1447943
SEQUENCE:3
DTSTAMP:20260423T212748Z
URL:https://business.mansfieldchamber.org/communitycalendar/Details/growth-roundtable-summer-series-1714897?sourceTypeId=Hub
END:VEVENT
END:VCALENDAR
