BEGIN:VCALENDAR
VERSION:2.0
PRODID:-//ChamberMaster//Event Calendar 2.0//EN
METHOD:PUBLISH
X-PUBLISHED-TTL:P1H
REFRESH-INTERVAL:P1H
CALSCALE:GREGORIAN
BEGIN:VTIMEZONE
TZID:America/Chicago
BEGIN:DAYLIGHT
RRULE:FREQ=YEARLY;BYMONTH=3;BYDAY=2SU
DTSTART:20070101T000000
TZOFFSETFROM:-0600
TZOFFSETTO:-0500
TZNAME:Central Daylight Time
END:DAYLIGHT
BEGIN:STANDARD
RRULE:FREQ=YEARLY;BYMONTH=11;BYDAY=1SU
DTSTART:20070101T000000
TZOFFSETFROM:-0500
TZOFFSETTO:-0600
TZNAME:Central Standard Time
END:STANDARD
END:VTIMEZONE
BEGIN:VEVENT
DTSTART;TZID=America/Chicago:20260806T103000
DTEND;TZID=America/Chicago:20260806T113000
X-MICROSOFT-CDO-ALLDAYEVENT:FALSE
SUMMARY:Growth Roundtable Summer Series
DESCRIPTION:Building a Business That WorksToo many business owners build themselves a job instead of a business. This discussion explores The E-Myth Revisited and the systems\, structure\, and mindset needed to create a business that runs better\, grows stronger\, and depends less on the owner doing everything.Reading the book is not necessary however....https://www.amazon.com/Myth-Revisited-Small-Businesses-About-ebook/dp/B000RO9VJK
X-ALT-DESC;FMTTYPE=text/html:<!DOCTYPE html><html><head><title></title></head><body aria-disabled="false"><p><strong fr-original-style="" style="font-weight: 700\;">Building a Business That Works</strong></p><p>Too many business owners build themselves a job instead of a business. This discussion explores The E-Myth Revisited and the systems\, structure\, and mindset needed to create a business that runs better\, grows stronger\, and depends less on the owner doing everything.</p><p>Reading the book is not necessary however....<a fr-original-style="" href="https://www.amazon.com/Myth-Revisited-Small-Businesses-About-ebook/dp/B000RO9VJK" style="user-select: auto\;">https://www.amazon.com/Myth-Revisited-Small-Businesses-About-ebook/dp/B000RO9VJK</a></p></body></html>
LOCATION:114 N Main St Mansfield TX 76063
UID:e.1786.1447950
SEQUENCE:3
DTSTAMP:20260423T212748Z
URL:https://business.mansfieldchamber.org/communitycalendar/Details/growth-roundtable-summer-series-1714904?sourceTypeId=Hub
END:VEVENT
END:VCALENDAR
