BEGIN:VCALENDAR
VERSION:2.0
PRODID:-//ChamberMaster//Event Calendar 2.0//EN
METHOD:PUBLISH
X-PUBLISHED-TTL:P1H
REFRESH-INTERVAL:P1H
CALSCALE:GREGORIAN
BEGIN:VTIMEZONE
TZID:America/Chicago
BEGIN:DAYLIGHT
RRULE:FREQ=YEARLY;BYMONTH=3;BYDAY=2SU
DTSTART:20070101T000000
TZOFFSETFROM:-0600
TZOFFSETTO:-0500
TZNAME:Central Daylight Time
END:DAYLIGHT
BEGIN:STANDARD
RRULE:FREQ=YEARLY;BYMONTH=11;BYDAY=1SU
DTSTART:20070101T000000
TZOFFSETFROM:-0500
TZOFFSETTO:-0600
TZNAME:Central Standard Time
END:STANDARD
END:VTIMEZONE
BEGIN:VEVENT
DTSTART;TZID=America/Chicago:20261117T113000
DTEND;TZID=America/Chicago:20261117T130000
X-MICROSOFT-CDO-ALLDAYEVENT:FALSE
SUMMARY:Junior Chamber Membership Day
DESCRIPTION:Topic 3: Know Your Strengths. Own Your Voice.What's up\, Empowerment Seeds crew? Get ready this one's a game-changer.We're diving into your strengths and how you communicate\, because when you figure those out? You stop blending in and start standing out.Step 1: Discover Your SuperpowersYour StrengthsFinder results aren't just random words they're a blueprint of what makes you powerful.\nYou've got natural talents\, and it's time to stop sleeping on them.This session is all about:Spotting what you're great atFiguring out how to use it in school\, business\, and lifeLearning how to lean in to what sets you apartBottom line: Your strengths are your edge. Learn how to use them\, and everything else gets easier.🗣Step 2: Communicate Like a LeaderNow that you know your strengths\, let's talk about how you show up in conversations.Think of communication styles like playlists:Some people like straight-up facts.Others need energy and connection.Some want space to think\, while others thrive in fast talk.We'll break down:How you naturally communicateHow to read the room and connect with anyoneHow to flex your style when it counts like a proWhether you're pitching an idea\, leading a group\, or just trying to get your point across you've gotta know how to speak so people listen.Your Mission: Use What You've GotEvery single one of you brings something unique to the table. This session is about learning to own that.\nYou'll walk away knowing how to:Tap into your natural giftsCommunicate with confidenceLead with clarity and purposeYou're not just growing. You're leveling up.Let's go make it happen.
X-ALT-DESC;FMTTYPE=text/html:<!DOCTYPE html><html><head><title></title></head><body aria-disabled="false"><h3 data-end="206" data-start="153"><strong data-end="206" data-start="157" fr-original-style="" style="font-weight: 700\;">Topic 3: Know Your Strengths. Own Your Voice.</strong></h3><p data-end="279" data-start="208">What&rsquo\;s up\, Empowerment Seeds crew? Get ready&mdash\;this one&rsquo\;s a game-changer.</p><p data-end="426" data-start="281">We&rsquo\;re diving into <strong data-end="317" data-start="299" fr-original-style="" style="font-weight: 700\;">your strengths</strong> and <strong data-end="345" data-start="322" fr-original-style="" style="font-weight: 700\;">how you communicate</strong>\, because when you figure those out? You stop blending in and start standing out.</p><hr data-start="428" data-end="431" fr-original-style="" style="clear: both\; user-select: none\; break-after: page\;"><h3 data-end="477" data-start="433"><strong data-end="477" data-start="440" fr-original-style="" style="font-weight: 700\;">Step 1: Discover Your Superpowers</strong></h3><p data-end="652" data-start="479">Your StrengthsFinder results aren&rsquo\;t just random words&mdash\;they&rsquo\;re a blueprint of what makes <em data-end="572" data-start="567">you</em> powerful.<br data-start="582" data-end="585">You&rsquo\;ve got natural talents\, and it&rsquo\;s time to stop sleeping on them.</p><p data-end="680" data-start="654">This session is all about:</p><ul fr-original-style="" style="list-style-position: inside\;"><li data-end="714" data-start="683">Spotting what you&rsquo\;re great at</li><li data-end="775" data-start="717">Figuring out how to use it in school\, business\, and life</li><li data-end="828" data-start="778">Learning how to <em data-end="803" data-start="794">lean in</em> to what sets you apart</li></ul><p data-end="928" data-start="830">Bottom line: Your strengths are your edge. Learn how to use them\, and everything else gets easier.</p><hr data-start="930" data-end="933" fr-original-style="" style="clear: both\; user-select: none\; break-after: page\;"><h3 data-end="980" data-start="935">🗣<strong data-end="980" data-start="943" fr-original-style="" style="font-weight: 700\;">Step 2: Communicate Like a Leader</strong></h3><p data-end="1068" data-start="982">Now that you know your strengths\, let&rsquo\;s talk about how you show up in conversations.</p><p data-end="1117" data-start="1070">Think of communication styles like playlists:</p><ul fr-original-style="" style="list-style-position: inside\;"><li data-end="1157" data-start="1120">Some people like straight-up facts.</li><li data-end="1196" data-start="1160">Others need energy and connection.</li><li data-end="1258" data-start="1199">Some want space to think\, while others thrive in fast talk.</li></ul><p data-end="1277" data-start="1260">We&rsquo\;ll break down:</p><ul fr-original-style="" style="list-style-position: inside\;"><li data-end="1311" data-start="1280">How you naturally communicate</li><li data-end="1362" data-start="1314">How to read the room and connect with <em data-end="1360" data-start="1352">anyone</em></li><li data-end="1415" data-start="1365">How to flex your style when it counts&mdash\;like a pro</li></ul><p data-end="1555" data-start="1417">Whether you&rsquo\;re pitching an idea\, leading a group\, or just trying to get your point across&mdash\;you&rsquo\;ve gotta know how to speak so people listen.</p><p data-end="1555" data-start="1417"><strong data-end="1606" data-start="1569" fr-original-style="" style="font-weight: 700\;">Your Mission: Use What You&#39\;ve Got</strong></p><p data-end="1750" data-start="1608">Every single one of you brings something unique to the table. This session is about learning to <em data-end="1714" data-start="1704">own that</em>.<br data-start="1715" data-end="1718">You&rsquo\;ll walk away knowing how to:</p><ul fr-original-style="" style="list-style-position: inside\;"><li data-end="1782" data-start="1753">Tap into your natural gifts</li><li data-end="1814" data-start="1785">Communicate with confidence</li><li data-end="1814" data-start="1785">Lead with clarity and purpose</li></ul><p data-end="1894" data-start="1850">You&rsquo\;re not just growing. You&rsquo\;re leveling up.</p><p data-end="1988" data-start="1896">Let&rsquo\;s go make it happen.</p></body></html>
LOCATION:114 N Main St Mansfield TX 76063
UID:e.1786.1449299
SEQUENCE:3
DTSTAMP:20260423T212828Z
URL:https://business.mansfieldchamber.org/communitycalendar/Details/junior-chamber-membership-day-1716700?sourceTypeId=Hub
END:VEVENT
END:VCALENDAR
