BEGIN:VCALENDAR
VERSION:2.0
PRODID:-//ChamberMaster//Event Calendar 2.0//EN
METHOD:PUBLISH
X-PUBLISHED-TTL:P1H
REFRESH-INTERVAL:P1H
CALSCALE:GREGORIAN
BEGIN:VTIMEZONE
TZID:America/Chicago
BEGIN:DAYLIGHT
RRULE:FREQ=YEARLY;BYMONTH=3;BYDAY=2SU
DTSTART:20070101T000000
TZOFFSETFROM:-0600
TZOFFSETTO:-0500
TZNAME:Central Daylight Time
END:DAYLIGHT
BEGIN:STANDARD
RRULE:FREQ=YEARLY;BYMONTH=11;BYDAY=1SU
DTSTART:20070101T000000
TZOFFSETFROM:-0500
TZOFFSETTO:-0600
TZNAME:Central Standard Time
END:STANDARD
END:VTIMEZONE
BEGIN:VEVENT
DTSTART;TZID=America/Chicago:20270203T113000
DTEND;TZID=America/Chicago:20270203T130000
X-MICROSOFT-CDO-ALLDAYEVENT:FALSE
SUMMARY:Junior Chamber Membership Day
DESCRIPTION:Hey Future Business Leaders!Topic 6: Round Robin with Local Business LeadersThink of this session as your VIP backstage pass to the real world of business. You won't be sitting through a lecture   you'll be moving from table to table in a fast-paced round robin\, talking face-to-face with local business owners and professionals from our Chamber.Why this matters:\nThese are the people actually doing it   running companies\, launching ideas\, solving problems\, and making money. You'll get to ask your own questions\, hear real stories\, and get advice straight from the source.What you'll walk away with:Insight on how different businesses started and grewHonest answers about challenges and lessons learnedNew connections that could lead to internships\, mentorships\, or your next big ideaBottom line:\nThis is where it gets real. Business isn't just something you study   it's something you build. And this session is all about helping you start that journey with clarity\, confidence\, and community.So come ready to listen\, ask\, and engage. Your future is showing up   make sure you do\, too.
X-ALT-DESC;FMTTYPE=text/html:<!DOCTYPE html><html><head><title></title></head><body aria-disabled="false"><p data-end="206" data-start="172"><strong data-end="204" data-start="172" fr-original-style="" style="font-weight: 700\;">Hey Future Business Leaders!</strong></p><p data-end="354" data-start="302"><strong data-end="354" data-start="302" fr-original-style="" style="font-weight: 700\;">Topic 6: Round Robin with Local Business Leaders</strong></p><p data-end="626" data-start="356">Think of this session as your VIP backstage pass to the real world of business. You won&rsquo\;t be sitting through a lecture &mdash\; you&rsquo\;ll be moving from table to table in a fast-paced round robin\, talking face-to-face with local business owners and professionals from our Chamber.</p><p data-end="862" data-start="628"><strong data-end="649" data-start="628" fr-original-style="" style="font-weight: 700\;">Why this matters:</strong><br data-start="649" data-end="652">These are the people actually doing it &mdash\; running companies\, launching ideas\, solving problems\, and making money. You&rsquo\;ll get to ask your own questions\, hear real stories\, and get advice straight from the source.</p><p data-end="897" data-start="864"><strong data-end="895" data-start="864" fr-original-style="" style="font-weight: 700\;">What you&rsquo\;ll walk away with:</strong></p><ul fr-original-style="" style="list-style-position: inside\;"><li data-end="954" data-start="900">Insight on how different businesses started and grew</li><li data-end="1010" data-start="957">Honest answers about challenges and lessons learned</li><li data-end="1097" data-start="1013">New connections that could lead to internships\, mentorships\, or your next big idea</li></ul><p data-end="1315" data-start="1099"><strong data-end="1115" data-start="1099" fr-original-style="" style="font-weight: 700\;">Bottom line:</strong><br data-start="1115" data-end="1118">This is where it gets real. Business isn&rsquo\;t just something you study &mdash\; it&rsquo\;s something you build. And this session is all about helping you start that journey with clarity\, confidence\, and community.</p><p data-end="1411" data-start="1317">So come ready to listen\, ask\, and engage. Your future is showing up &mdash\; make sure you do\, too.</p><p data-end="1422" data-start="1413"><br></p></body></html>
LOCATION:114 N Main St Mansfield TX 76063
UID:e.1786.1449310
SEQUENCE:3
DTSTAMP:20260423T213112Z
URL:https://business.mansfieldchamber.org/communitycalendar/Details/junior-chamber-membership-day-1716744?sourceTypeId=Hub
END:VEVENT
END:VCALENDAR
