BEGIN:VCALENDAR
VERSION:2.0
PRODID:-//ChamberMaster//Event Calendar 2.0//EN
METHOD:PUBLISH
X-PUBLISHED-TTL:P1H
REFRESH-INTERVAL:P1H
CALSCALE:GREGORIAN
BEGIN:VTIMEZONE
TZID:America/Chicago
BEGIN:DAYLIGHT
RRULE:FREQ=YEARLY;BYMONTH=3;BYDAY=2SU
DTSTART:20070101T000000
TZOFFSETFROM:-0600
TZOFFSETTO:-0500
TZNAME:Central Daylight Time
END:DAYLIGHT
BEGIN:STANDARD
RRULE:FREQ=YEARLY;BYMONTH=11;BYDAY=1SU
DTSTART:20070101T000000
TZOFFSETFROM:-0500
TZOFFSETTO:-0600
TZNAME:Central Standard Time
END:STANDARD
END:VTIMEZONE
BEGIN:VEVENT
DTSTART;TZID=America/Chicago:20270323T113000
DTEND;TZID=America/Chicago:20270323T130000
X-MICROSOFT-CDO-ALLDAYEVENT:FALSE
SUMMARY:Junior Chamber Membership Day
DESCRIPTION:Hey Future Marketing Masters!Welcome to Topic 4 of the Empowerment Seeds Program: Mastering Marketing in Business.\nThis is where your ideas stop sitting in your notebook and start grabbing attention.What's marketing?\nIt's how you make people care about your business. And in today's world\, attention is currency.Here's what we're diving into:🔥 Building Your Brand:\nYour brand is more than a name or logo   it's your business's vibe. It's how people feel when they see your stuff. We'll show you how to create a brand that stands out and sticks.📱 Choosing the Right Marketing Channels:\nNot everything needs to go on TikTok (but some things definitely should). We'll break down how to pick the right platforms   from social to old-school   to reach the right people.🎤 Telling Your Story:\nPeople don't just buy products   they buy stories. We'll teach you how to turn your "why" into a powerful message that connects and inspires.📊 Tracking What Works:\nEver wonder if your posts or campaigns are actually doing anything? That's where analytics come in. You'll learn how to measure results and make smart decisions that drive growth.Bottom line:\nYou don't need a huge budget to market like a pro   just a clear message\, smart tools\, and the guts to get out there.Let's unlock your marketing superpowers and make sure the world knows exactly what you're building.Ready to turn heads? Let's do this.
X-ALT-DESC;FMTTYPE=text/html:<!DOCTYPE html><html><head><title></title></head><body aria-disabled="false"><p data-end="208" data-start="173"><strong data-end="206" data-start="173" fr-original-style="" style="font-weight: 700\;">Hey Future Marketing Masters!</strong></p><p data-end="386" data-start="210">Welcome to Topic 4 of the Empowerment Seeds Program: <strong data-end="299" data-start="263" fr-original-style="" style="font-weight: 700\;">Mastering Marketing in Business.</strong><br data-start="299" data-end="302">This is where your ideas stop sitting in your notebook and start grabbing attention.</p><p data-end="509" data-start="388"><strong data-end="409" data-start="388" fr-original-style="" style="font-weight: 700\;">What&rsquo\;s marketing?</strong><br data-start="409" data-end="412">It&rsquo\;s how you make people <em data-end="443" data-start="437">care</em> about your business. And in today&rsquo\;s world\, attention is currency.</p><p data-end="545" data-start="511"><strong data-end="545" data-start="511" fr-original-style="" style="font-weight: 700\;">Here&rsquo\;s what we&rsquo\;re diving into:</strong></p><p data-end="758" data-start="547">🔥 <strong data-end="574" data-start="550" fr-original-style="" style="font-weight: 700\;">Building Your Brand:</strong><br data-start="574" data-end="577">Your brand is more than a name or logo &mdash\; it&rsquo\;s your business&rsquo\;s vibe. It&rsquo\;s how people <em data-end="667" data-start="661">feel</em> when they see your stuff. We&rsquo\;ll show you how to create a brand that stands out and sticks.</p><p data-end="987" data-start="760">📱 <strong data-end="805" data-start="763" fr-original-style="" style="font-weight: 700\;">Choosing the Right Marketing Channels:</strong><br data-start="805" data-end="808">Not everything needs to go on TikTok (but some things definitely should). We&rsquo\;ll break down how to pick the right platforms &mdash\; from social to old-school &mdash\; to reach the right people.</p><p data-end="1159" data-start="989">🎤 <strong data-end="1015" data-start="992" fr-original-style="" style="font-weight: 700\;">Telling Your Story:</strong><br data-start="1015" data-end="1018">People don&rsquo\;t just buy products &mdash\; they buy stories. We&rsquo\;ll teach you how to turn your &ldquo\;why&rdquo\; into a powerful message that connects and inspires.</p><p data-end="1370" data-start="1161">📊 <strong data-end="1188" data-start="1164" fr-original-style="" style="font-weight: 700\;">Tracking What Works:</strong><br data-start="1188" data-end="1191">Ever wonder if your posts or campaigns are actually doing anything? That&rsquo\;s where analytics come in. You&rsquo\;ll learn how to measure results and make smart decisions that drive growth.</p><p data-end="1508" data-start="1372"><strong data-end="1388" data-start="1372" fr-original-style="" style="font-weight: 700\;">Bottom line:</strong><br data-start="1388" data-end="1391">You don&rsquo\;t need a huge budget to market like a pro &mdash\; just a clear message\, smart tools\, and the guts to get out there.</p><p data-end="1609" data-start="1510">Let&rsquo\;s unlock your marketing superpowers and make sure the world knows exactly what you&rsquo\;re building.</p><p data-end="1646" data-start="1611">Ready to turn heads? Let&rsquo\;s do this.</p></body></html>
LOCATION:114 N Main St Mansfield TX 76063
UID:e.1786.1449311
SEQUENCE:3
DTSTAMP:20260423T214010Z
URL:https://business.mansfieldchamber.org/communitycalendar/Details/junior-chamber-membership-day-1716745?sourceTypeId=Hub
END:VEVENT
END:VCALENDAR
