BEGIN:VCALENDAR
VERSION:2.0
PRODID:-//ChamberMaster//Event Calendar 2.0//EN
METHOD:PUBLISH
X-PUBLISHED-TTL:P1H
REFRESH-INTERVAL:P1H
CALSCALE:GREGORIAN
BEGIN:VTIMEZONE
TZID:America/Chicago
BEGIN:DAYLIGHT
RRULE:FREQ=YEARLY;BYMONTH=3;BYDAY=2SU
DTSTART:20070101T000000
TZOFFSETFROM:-0600
TZOFFSETTO:-0500
TZNAME:Central Daylight Time
END:DAYLIGHT
BEGIN:STANDARD
RRULE:FREQ=YEARLY;BYMONTH=11;BYDAY=1SU
DTSTART:20070101T000000
TZOFFSETFROM:-0500
TZOFFSETTO:-0600
TZNAME:Central Standard Time
END:STANDARD
END:VTIMEZONE
BEGIN:VEVENT
DTSTART;TZID=America/Chicago:20270420T113000
DTEND;TZID=America/Chicago:20270420T130000
X-MICROSOFT-CDO-ALLDAYEVENT:FALSE
SUMMARY:Junior Chamber Membership Day
DESCRIPTION:Hey Future Trailblazers!Welcome to Topic 5: Crafting Your Personal Brand   where we flip the spotlight and focus on you.This session is all about defining who you are\, what you stand for\, and how you show up in the world   online and off. Because like it or not\, you already have a brand. The question is: are you in control of it?Here's what we're doing:💡 Discover What Makes You You:\nWhat are your strengths? What do you care about? What do you want to be known for? We'll help you figure out what sets you apart and how to turn that into your personal brand identity.📱 Build a Digital Presence That Works for You:\nYour social media accounts are more than just fun   they're part of your public image. We'll talk about how to use platforms like Instagram\, LinkedIn\, and more to tell your story\, build your credibility\, and open doors.📈 Stay Consistent\, Stay Real:\nA strong brand isn't just flashy   it's real. It's about showing up with the same energy\, values\, and voice across everything you do. We'll show you how to keep your brand tight and trustworthy.🤝 Network Like a Pro:\nYour brand will get you in the door\, but your connections will help you level up. We'll walk through how to make meaningful connections\, follow up\, and leave a lasting impression   without being awkward or fake.Bottom line:\nThis isn't about being someone you're not. It's about owning who you are   and showing it with purpose.By the end of this session\, you'll have the tools to shape a personal brand that's authentic\, intentional\, and unforgettable.Let's build it. Let's own it. Let's go.
X-ALT-DESC;FMTTYPE=text/html:<!DOCTYPE html><html><head><title></title></head><body aria-disabled="false"><p data-end="172" data-start="142"><strong data-end="170" data-start="142" fr-original-style="" style="font-weight: 700\;">Hey Future Trailblazers!</strong></p><p data-end="276" data-start="174">Welcome to Topic 5: <strong data-end="226" data-start="194" fr-original-style="" style="font-weight: 700\;">Crafting Your Personal Brand</strong> &mdash\; where we flip the spotlight and focus on <em data-end="276" data-start="270">you.</em></p><p data-end="491" data-start="278">This session is all about defining who you are\, what you stand for\, and how you show up in the world &mdash\; online and off. Because like it or not\, <em data-end="426" data-start="421">you</em> already have a brand. The question is: are you in control of it?</p><p data-end="521" data-start="493"><strong data-end="521" data-start="493" fr-original-style="" style="font-weight: 700\;">Here&rsquo\;s what we&rsquo\;re doing:</strong></p><p data-end="745" data-start="523">💡 <strong data-end="558" data-start="526" fr-original-style="" style="font-weight: 700\;">Discover What Makes You&hellip\;You:</strong><br data-start="558" data-end="561">What are your strengths? What do you care about? What do you want to be known for? We&rsquo\;ll help you figure out what sets you apart and how to turn that into your personal brand identity.</p><p data-end="1020" data-start="747">📱 <strong data-end="798" data-start="750" fr-original-style="" style="font-weight: 700\;">Build a Digital Presence That Works for You:</strong><br data-start="798" data-end="801">Your social media accounts are more than just fun &mdash\; they&rsquo\;re part of your public image. We&rsquo\;ll talk about how to use platforms like Instagram\, LinkedIn\, and more to tell your story\, build your credibility\, and open doors.</p><p data-end="1255" data-start="1022">📈 <strong data-end="1056" data-start="1025" fr-original-style="" style="font-weight: 700\;">Stay Consistent\, Stay Real:</strong><br data-start="1056" data-end="1059">A strong brand isn&rsquo\;t just flashy &mdash\; it&rsquo\;s <em data-end="1106" data-start="1099">real.</em> It&rsquo\;s about showing up with the same energy\, values\, and voice across everything you do. We&rsquo\;ll show you how to keep your brand tight and trustworthy.</p><p data-end="1497" data-start="1257">🤝 <strong data-end="1283" data-start="1260" fr-original-style="" style="font-weight: 700\;">Network Like a Pro:</strong><br data-start="1283" data-end="1286">Your brand will get you in the door\, but your connections will help you level up. We&rsquo\;ll walk through how to make meaningful connections\, follow up\, and leave a lasting impression &mdash\; without being awkward or fake.</p><p data-end="1621" data-start="1499"><strong data-end="1515" data-start="1499" fr-original-style="" style="font-weight: 700\;">Bottom line:</strong><br data-start="1515" data-end="1518">This isn&rsquo\;t about being someone you&rsquo\;re not. It&rsquo\;s about owning who you are &mdash\; and showing it with purpose.</p><p data-end="1748" data-start="1623">By the end of this session\, you&rsquo\;ll have the tools to shape a personal brand that&rsquo\;s authentic\, intentional\, and unforgettable.</p><p data-end="1789" data-start="1750">Let&rsquo\;s build it. Let&rsquo\;s own it. Let&rsquo\;s go.</p></body></html>
LOCATION:114 N Main St Mansfield TX 76063
UID:e.1786.1449314
SEQUENCE:3
DTSTAMP:20260423T215307Z
URL:https://business.mansfieldchamber.org/communitycalendar/Details/junior-chamber-membership-day-1716748?sourceTypeId=Hub
END:VEVENT
END:VCALENDAR
