BEGIN:VCALENDAR
VERSION:2.0
PRODID:-//ChamberMaster//Event Calendar 2.0//EN
METHOD:PUBLISH
X-PUBLISHED-TTL:P1H
REFRESH-INTERVAL:P1H
CALSCALE:GREGORIAN
BEGIN:VTIMEZONE
TZID:America/Chicago
BEGIN:DAYLIGHT
RRULE:FREQ=YEARLY;BYMONTH=3;BYDAY=2SU
DTSTART:20070101T000000
TZOFFSETFROM:-0600
TZOFFSETTO:-0500
TZNAME:Central Daylight Time
END:DAYLIGHT
BEGIN:STANDARD
RRULE:FREQ=YEARLY;BYMONTH=11;BYDAY=1SU
DTSTART:20070101T000000
TZOFFSETFROM:-0500
TZOFFSETTO:-0600
TZNAME:Central Standard Time
END:STANDARD
END:VTIMEZONE
BEGIN:VEVENT
DTSTART;TZID=America/Chicago:20260826T130000
DTEND;TZID=America/Chicago:20260826T140000
X-MICROSOFT-CDO-ALLDAYEVENT:FALSE
SUMMARY:Junior Chamber Membership Day - Intro to the Chamber
DESCRIPTION:Welcome to Empowerment Seeds   Your First Step Into the Business WorldGet ready for something real. Empowerment Seeds is your backstage pass to the world of business brought to you by the Mansfield Area Chamber of Commerce and Ben Barber Innovation Academy. This program is built just for you: future leaders\, creators\, and go-getters who aren't waiting for success to find them they're building it themselves.We're talking real-world learning\, direct access to business pros\, and hands-on skills that'll set you apart. It's your chance to plant the seeds of your own success story and watch it grow.Topic 1: Meet the Chamber   Where Business and Opportunity BeginImagine stepping into a room full of people who've already built careers\, businesses\, and success from the ground up. That's what you'll get in this first session. We're kicking things off with an inside look at the Mansfield Area Chamber of Commerce what we do\, why it matters\, and how it all connects to your future.You'll meet board members (aka real business leaders)\, hear their stories\, and ask them questions. No filters. No fluff. Just real talk about what it takes to win in the professional world.What You'll Learn:Work Ethic = Water\nEvery plant needs water. Every career needs effort. We'll talk about how dedication\, consistency\, and going the extra mile are the real game-changers.Skills Are Your Roots\nYou can't grow without a solid foundation. We'll dig into skills like communication\, time management\, problem-solving\, and being flexible stuff you'll need no matter where life takes you.This session isn't just about business it's about who you're becoming. Every one of you brings something unique to the table\, and this is your place to figure out how to use it.Remember: even the biggest tree started as one tiny seed. Let's grow. Ms. Lori\nPresident & CEO\, Mansfield Area Chamber of Commerce
X-ALT-DESC;FMTTYPE=text/html:<!DOCTYPE html><html><head><title></title></head><body aria-disabled="false"><p data-end="236" data-start="162"><strong data-end="236" data-start="162" fr-original-style="" style="font-weight: 700\;">Welcome to Empowerment Seeds &ndash\; Your First Step Into the Business World</strong></p><p data-end="578" data-start="238">Get ready for something real. Empowerment Seeds is your backstage pass to the world of business&mdash\;brought to you by the Mansfield Area Chamber of Commerce and Ben Barber Innovation Academy. This program is built just for you: future leaders\, creators\, and go-getters who aren&rsquo\;t waiting for success to find them&mdash\;they&rsquo\;re building it themselves.</p><p data-end="770" data-start="580">We&rsquo\;re talking real-world learning\, direct access to business pros\, and hands-on skills that&rsquo\;ll set you apart. It&rsquo\;s your chance to plant the seeds of your own success story&mdash\;and watch it grow.</p><hr data-start="772" data-end="775" fr-original-style="" style="clear: both\; user-select: none\; break-after: page\;"><h3 data-end="849" data-start="777"><strong data-end="849" data-start="781" fr-original-style="" style="font-weight: 700\;">Topic 1: Meet the Chamber &ndash\; Where Business and Opportunity Begin</strong></h3><p data-end="1169" data-start="851">Imagine stepping into a room full of people who&rsquo\;ve already built careers\, businesses\, and success from the ground up. That&rsquo\;s what you&rsquo\;ll get in this first session. We&rsquo\;re kicking things off with an inside look at the Mansfield Area Chamber of Commerce&mdash\;what we do\, why it matters\, and how it all connects to your future.</p><p data-end="1360" data-start="1171">You&rsquo\;ll meet board members (aka real business leaders)\, hear their stories\, and ask them questions. No filters. No fluff. Just real talk about what it takes to win in the professional world.</p><hr data-start="1362" data-end="1365" fr-original-style="" style="clear: both\; user-select: none\; break-after: page\;"><h3 data-end="1393" data-start="1367"><strong data-end="1393" data-start="1371" fr-original-style="" style="font-weight: 700\;">What You&rsquo\;ll Learn:</strong></h3><p data-end="1573" data-start="1395"><strong data-end="1420" data-start="1395" fr-original-style="" style="font-weight: 700\;">Work Ethic = Water</strong><br data-start="1420" data-end="1423">Every plant needs water. Every career needs effort. We&rsquo\;ll talk about how dedication\, consistency\, and going the extra mile are the real game-changers.</p><p data-end="1793" data-start="1575"><strong data-end="1603" data-start="1575" fr-original-style="" style="font-weight: 700\;">Skills Are Your Roots</strong><br data-start="1603" data-end="1606">You can&rsquo\;t grow without a solid foundation. We&rsquo\;ll dig into skills like communication\, time management\, problem-solving\, and being flexible&mdash\;stuff you&rsquo\;ll need no matter where life takes you.</p><hr data-start="1795" data-end="1798" fr-original-style="" style="clear: both\; user-select: none\; break-after: page\;"><p data-end="1978" data-start="1800">This session isn&rsquo\;t just about business&mdash\;it&rsquo\;s about who you&rsquo\;re becoming. Every one of you brings something unique to the table\, and this is your place to figure out how to use it.</p><p data-end="2049" data-start="1980">Remember: even the biggest tree started as one tiny seed. Let&rsquo\;s grow.</p><p data-end="2116" data-start="2051">&mdash\;Ms. Lori<br data-start="2060" data-end="2063"><em data-end="2116" data-start="2063">President &amp\; CEO\, Mansfield Area Chamber of Commerce</em></p></body></html>
LOCATION:1120 W Debbie Ln\, Mansfield TX 76063
UID:e.1786.1449291
SEQUENCE:3
DTSTAMP:20260423T213649Z
URL:https://business.mansfieldchamber.org/communitycalendar/Details/junior-chamber-membership-day-intro-to-the-chamber-1716692?sourceTypeId=Hub
END:VEVENT
END:VCALENDAR
